BEGIN:VCALENDAR
VERSION:2.0
PRODID:-//wp-events-plugin.com//7.2.3.1//EN
TZID:Europe/Berlin
X-WR-TIMEZONE:Europe/Berlin
BEGIN:VEVENT
UID:106@zeichnen-kunstundtherapie.de
DTSTART;TZID=Europe/Berlin:20260901T183000
DTEND;TZID=Europe/Berlin:20261215T210000
DTSTAMP:20251014T143908Z
URL:https://zeichnen-kunstundtherapie.de/termine/selbsterfahrungsgruppe-ku
 nsttherapie-frauen-2026/
SUMMARY:Selbsterfahrungsgruppe in Kunsttherapie – Kursangebot für Frauen
 : Erfahrung in dem Weiblichen – Flüssiger Nektar (2026)
DESCRIPTION:Selbsterfahrungsgruppe Kunsttherapie Frauen 2026\nEs ist ein Au
 sflug in das Weibliche.\nIn der Selbsterfahrungsgruppe Kunsttherapie Fraue
 n 2025 bieten 8 Termine Raum für gestalterische Selbsterfahrung und Refle
 xion in einem geschützten Rahmen. Diese Gruppe für Frauen thematisiert m
 it kunsttherapeutischem Ansatz die Lebenserfahrungen von Frauen in verschi
 edenen Stadien ihrer Lebenswege. Es ist die Erforschung der Zyklen\, denen
  wir unterworfen sind. Das weibliche Prinzip\, der flüssige Nektar\, der 
 uns durchströmt\, unsere Existenz steuert. Trotz Technologie und Modernit
 ät: Wie geht es mir als Frau in diesem genuinen Ablauf?\n\nDie Kraft der 
 Ressourcen und die entwickelten Resilienzen nähren uns\, um uns von Phase
  zu Phase weiterzutragen. Wie können diese genährt und entlastet werden?
  Diese lebenslange Interdependenz (wechselseitige Beeinflussung und Abhän
 gigkeit) fordert Fürsorge und Aufmerksamkeit.\n\nProzess- und ressourceno
 rientiertes Arbeiten ermöglicht den Teilnehmerinnen\, Selbsterfahrung und
  Selbstfindung gestalterisch zu erleben. Die nonverbale Kommunikation des 
 kunsttherapeutischen Prozesses trägt dazu bei\, dass sich auf eine schone
 nde Art und Weise unbewusste\, auch schmerzhafte Anteile von uns zeigen un
 d ausdrücken dürfen. Es ist ein Themenfeld\, worauf wir ganzheitlich –
  gestalterisch\, künstlerisch\, tiefenpsychologisch/anthroposophisch – 
 mit einem großen Resonanzraum eingehen werden. Themenzentrierte Übungen 
 werden angeboten: Malen\, Plastizieren mit Ton\, intuitives Schreiben\, Bi
 ldbetrachtung\, Austausch und Reflexion.\n\nDiese Gruppe ist als halbjähr
 liche Gruppe angelegt und kann so Ihre berufliche und persönliche Entwick
 lung über eine längere Zeit begleiten. Eine regelmäßige Teilnahme ist 
 erforderlich\, um einen kontinuierlichen Prozess zu gewähren.\nZielgruppe
 :\nDieses Gruppenangebot ist eine gute Unterstützung für angehende Kunst
 therapeutinnen\, für Frauen in psychosozialen und therapeutischen Berufen
  und für Frauen\, die schöpferisch im Leben stehen. Die Gruppe ist wie 
 üblich klein\, auf acht Personen begrenzt. Anfängerinnen und Fortgeschri
 ttene sind willkommen.\nLeitung:\nNicole Félicia Brémond ist bildende K
 ünstlerin\, Dozentin für Zeichnung und Malerei\, Dozentin für Kunstther
 apie und Traumatherapie\, Kunsttherapeutin und Heilpraktikerin für Psycho
 therapie. Sie lebt und arbeitet in Berlin. Ihre künstlerische Handschrift
  prägt den Prozess: eine feine\, reduktive Bildsprache\, die auch in ihre
 n freien Arbeiten sichtbar wird.\n\nMaria Göbel ist bildende Künstlerin\
 , anthroposophische Kunsttherapeutin\, Dozentin für Kunsttherapie und Tra
 umatherapie. Sie lebt und arbeitet in Berlin.\n9 Termine im Herbst 2026\n1
 4-täglich\, jeweils dienstags\, 18:30 – 21:00 Uhr\n\n01.09. + 15.09. + 
 29.09. + 13.10. + 27.10. + 10.11. + 24.11. + 01.12. + 15.12.2026\n\nGesamt
 kosten inklusive Material:\n\n480 € (zahlbar auch in 4 Raten à 120 €)
 \, ermäßigt: 430 €.\n\nAnmeldung und Vorgespräch sind erforderlich.\n
 \nInfo-Flyer zum Download.\n\n[contact-form-7 id="651" title="Vorgespraech
 "]
ATTACH;FMTTYPE=image/jpeg:https://zeichnen-kunstundtherapie.de/wp-content/
 uploads/2025/10/Pi3.webp
CATEGORIES:Selbsterfahrungsgruppe
LOCATION:InKontakt Gestaltinstitut Berlin\, Gleimstr. 37\, Berlin\, BE\, 10
 437\, BE\, Deutschland
GEO:52.547586;13.410809
X-APPLE-STRUCTURED-LOCATION;VALUE=URI;X-ADDRESS=Gleimstr. 37\, Berlin\, BE\
 , 10437\, BE\, Deutschland;X-APPLE-RADIUS=100;X-TITLE=InKontakt Gestaltins
 titut Berlin:geo:52.547586,13.410809
END:VEVENT
BEGIN:VTIMEZONE
TZID:Europe/Berlin
X-LIC-LOCATION:Europe/Berlin
BEGIN:DAYLIGHT
DTSTART:20260329T030000
TZOFFSETFROM:+0100
TZOFFSETTO:+0200
TZNAME:CEST
END:DAYLIGHT
BEGIN:STANDARD
DTSTART:20261025T020000
TZOFFSETFROM:+0200
TZOFFSETTO:+0100
TZNAME:CET
END:STANDARD
END:VTIMEZONE
END:VCALENDAR