BEGIN:VCALENDAR
VERSION:2.0
PRODID:-//wp-events-plugin.com//7.2.3.1//EN
TZID:Europe/Berlin
X-WR-TIMEZONE:Europe/Berlin
BEGIN:VEVENT
UID:110@zeichnen-kunstundtherapie.de
DTSTART;TZID=Europe/Berlin;VALUE=DATE:20260907
DTEND;TZID=Europe/Berlin;VALUE=DATE:20260910
DTSTAMP:20260216T150012Z
URL:https://zeichnen-kunstundtherapie.de/termine/masterclass-ii-kunst-und-
 gestalt-block-1/
SUMMARY:MasterClass II: Kunst und Gestalt (Block 1)
DESCRIPTION:Masterclass II: Kunst und Gestalt Block 1\nVertiefungsseminar f
 ür Gestalttherapeuten und andere Fachtherapeuten.\nMit der Fusionierung v
 on Gestalt- und Kunsttherapie bieten wir mit Masterclass Kunst und Gestalt
  Block 1 eine erfahrungs- und KONTAKT-orientierte Weiterbildung an\, in de
 r es um eine Sensibilisierung für wahrgenommene Phänomene und die Öffnu
 ng hin zu einem heilsamen Kontakt geht. Berührung anstatt Deutung und Int
 erpretation ist essentiell. In einem co-kreativen Prozess werden die gesta
 lttherapeutische Haltung und Herangehensweise mit den kunsttherapeutischen
  Methoden zusammengeführt und theoretisch eingeordnet.\n\nIn dieser aufba
 uenden Weiterbildung kommen vielfältige Methoden und Werkzeuge zur Anwend
 ung. Körperlichkeit\, die Bezugnahme auf den Körper sowie die Verfeineru
 ng der Wahrnehmung sind Basis-Elemente der Weiterbildung. Wir arbeiten mit
  gestalterischen Methoden und Interventionen und bieten dafür themenzentr
 ierte Übungen an. Die Bildbetrachtung gehört zu den wesentlichen Arbeits
 schritten und dient auch der Diagnostik. Materialkenntnis und ihre Anwendu
 ng in unterschiedlichen therapeutischen Settings wird vermittelt. Rezeptiv
 e Kunst und kunstgeschichtliche Hintergrundinformation über Filme/Dokumen
 tationen kommen zum Einsatz. Reflexion/Schreiben/künstlerische Anregungen
 /Austausch sind wiederkehrende Elemente.\n\nDie Teilnehmerinnen und Teilne
 hmer werden im Rahmen der Weiterbildung darin unterstützt\, an einem eige
 nen Fallbeispiel die integrierte gestalt- und kunsttherapeutische Herangeh
 ensweise auszuprobieren und zu dokumentieren. Am Ende wird die eigene Arbe
 it präsentiert und besprochen.\n\nDie Weiterbildung findet unter der Leit
 ung von Gabriele Blankertz statt\, die täglich den Einstieg und Abschluss
  begleitet und die theoretische Einordnung in die gestalttherapeutische Ar
 beitsweise vornimmt.\nZielgruppe:\nDieses Vertiefungsseminar richtet sich 
 an erfahrene Gestalttherapeutinnen\, -therapeuten und Fachtherapeutinnen\,
  -therapeuten\, die ihr Wissen im Bereich Kunst und Gestalt vertiefen möc
 hten. Die Teilnehmerinnen und Teilnehmer sollten bereits Grundkenntnisse i
 n der Gestalttherapie oder einer verwandten Fachrichtung mitbringen. Das S
 eminar bietet eine ideale Möglichkeit\, die gestalterischen Methoden in V
 erbindung mit sachter körperorientierter Arbeit zu erforschen und anzuwen
 den. Die Gruppe ist wie üblich klein\, auf acht Personen begrenzt.\nLeitu
 ng:\nGabriele Blankertz ist Diplom-Pädagogin und Gestalttherapeutin der D
 VG\, leitet seit 2015 das InKontakt Gestaltinstitut Berlin und ist Gründe
 rin des Berliner Gestaltsalons. Sie engagiert sich in der Arbeit mit Gefl
 üchteten und für die Durchführung von Dialog-Weiterbildungen. www.gesta
 lt-institut.com\nDozentin:\nNicole Félicia Brémond ist bildende Künstle
 rin\, Dozentin für Zeichnung und Malerei\, Fachtherapeutin für Kunst- un
 d Traumatherapie sowie Heilpraktikerin für Psychotherapie. Sie lebt und a
 rbeitet in Berlin. www.nicolebremond.de\n\nBlock I: 07. – 09. September 
 2026\nInnenwelt\, lernen zu fühlen\, Haut/Raum/Fülle – Reflexion: Mein
 e Körperlichkeit.\n\nBlock II: 02. – 04. November 2026\nAbgrenzung\, Sc
 hatten\, Archetypen\, der Schmerz in der Kunst – Reflexion: lernen zu se
 hen\, was nicht da ist.\n\nBlock III: 15. – 17. Februar 2027\nExpansion\
 , die Kraft der Imagination\, das Narrative in der Kunst – Reflexion: Di
 e Metamorphose.\n\nBlock IV: 24. – 26. Mai 2027\nKonstruktion\, Echo/Res
 onanzraum\, Selbstmitgefühl im Kontext des therapeutischen Settings – R
 eflexion: Eigene Spiritualität und Sinnfindung.\n\nTeilnahmekosten\, inkl
 usive Materialkosten: 2.000 €\n\nAnmeldung und Vorgespräch sind erforde
 rlich.\n\nDieses Weiterbildungsangebot ist für die Inanspruchnahme von Bi
 ldungszeit anerkannt. Mehr dazu bei der Senatsverwaltung für Arbeit\, Soz
 iales\, Gleichstellung\, Integration\, Vielfalt und Antidiskriminierung.\n
 \nInfo-Flyer zum Download.\n\n[contact-form-7 id="651" title="Vorgespraech
 "]
ATTACH;FMTTYPE=image/jpeg:https://zeichnen-kunstundtherapie.de/wp-content/
 uploads/2025/10/Pi4.webp
CATEGORIES:Vertiefungsseminar
LOCATION:InKontakt Gestaltinstitut Berlin\, Gleimstr. 37\, Berlin\, BE\, 10
 437\, BE\, Deutschland
GEO:52.547586;13.410809
X-APPLE-STRUCTURED-LOCATION;VALUE=URI;X-ADDRESS=Gleimstr. 37\, Berlin\, BE\
 , 10437\, BE\, Deutschland;X-APPLE-RADIUS=100;X-TITLE=InKontakt Gestaltins
 titut Berlin:geo:52.547586,13.410809
END:VEVENT
BEGIN:VTIMEZONE
TZID:Europe/Berlin
X-LIC-LOCATION:Europe/Berlin
BEGIN:DAYLIGHT
DTSTART:20260329T030000
TZOFFSETFROM:+0100
TZOFFSETTO:+0200
TZNAME:CEST
END:DAYLIGHT
END:VTIMEZONE
END:VCALENDAR